{"text_format":"1","workbook":"xlsx","n_sheets":11,"sheets":["Summary page","Data for charts","A&E","Mortality","DD","Process Data","Emergency","Data for chart 2","Combo","Intro","Process Implementation"],"not_rendered":{"charts":6,"images":0,"macros":0,"external_links":0,"defined_names":6,"comments":0,"pivot_tables":0},"unopened":[],"bounds":{"document_bytes":16777216,"sheet_cells":100000,"rows_first":2000,"rows_last":500,"rows_between":2000,"halvings":0,"cell_chars":16384,"cell_head_chars":4096},"cells_cut":0,"cells_raw":0,"read":"whole","date_system":"1900"}

{"sheet":"Summary page","index":0,"n_rows":34,"n_cols":8,"rows_kept":34,"cut":false,"hidden":false,"merged":[[2,0,7,0],[0,0,0,7],[9,2,11,2],[10,3,11,3],[10,4,11,4],[10,5,11,5],[10,6,11,6],[10,7,11,7],[27,0,27,1],[28,0,29,0],[9,3,9,6],[12,0,16,0],[10,0,10,1],[18,0,18,1],[11,0,11,1]]}
["Person-centred health and care real-time and right-time test site data dashboard"]
[null,null,null,"Updated 12/09/17","updated 20/09/17"]
["Key","For consideration in external evaluation"]
[null,"Priority for December 2016"]
[null,"Deterioration"]
[null,"No change"]
[null,"Improvement"]
[null,"Not enough data to make an assesment"]
[]
[null,null,"Agreed operational definitions","Local operational definitions"]
[null,null,null,"NHS Tayside Updated 12/09/17","NHS Greater Glasgow and Clyde updated 20/09/17","NHS Lanarkshire","NHS Western Isles","Notes 030417"]
["Overarching"]
["General","1. Percentage positive feedback on overall care experience",null,"Percentage of patients who score their overall care as  4 (good) and 5 (excellent) .","The calculation is the aggregated % of positives responses to all enquiry questions. ","Real-time and right-time will report the percentage of people that are \"happy with the care and support\" they received. \nClinical Quality are currently aggregating historical data against the 5 MDWM measures recorded previously to give a compliance measurement for \"real-time\".","Calculation for Overall Care Experience % is found using the formula: No. of interviews with a positive response to (Q2+Q3+Q4+Q5) divided by total no. of interviews x 100 to give the percentage.","NHS Lanarkshire - not able to accurately measure experience at this time on LanQip"]
[null,"2. Total number of improvement teams established","Number of test areas involved.",null,"Number of team clusters.","Number of wards/departments that are partcipating in the programme.","The 3 test sites continue to develop testing. These are Surgical Ward and Medical 2 at Western Isles Hospital and the General Ward and Uist and Barra Hospital."]
[null,"NOT INCLUDED IN CURRENT DASHBOARD DATA 2a. Total number of improvement teams following model","Number of test areas following model (i.e. meeting regularly to review and use care experience data for improvement).",null,"Number of improvement teams that are using the model to collect, review and act on their patient feedback data"]
[null,"3. Percentage of patients/carers who say services are improving",null,null,"Do not currently collect this data. I suspect it will be a measure that will be difficult to obtain accurate data on as feedback is collected in real time and a follow-up with patients to seek their view on improvment is not possible.",null,"This is not included in the current data collection plan.","Perhaps could be linked to identified improvements? Discuss at next operational group"]
[null,"4. Percentage of care teamstaff rating they positively value the patient/carer feedback",null,null,"Do not curently measure this. A difficult one to measure accurately. The number of staff involved in reviewing feedback and taking forward improvement exceed the number of staff we directly come into contact with via improvment meetings and clinics . This may be a mechanism that could be developed and incorporated into the evaluation process.",null,"This is not included in the current data collection plan."]
[]
["Real-time"]
["Conversation","5. Number of care experience interviews/themed conversations conducted per review period","Number of planned interview/themed conversation per month.",null,"The number of face-to-face interviews to gather 'real-time' feedback.","Total number of people that participate in a solicited brief themed conversation as part of the programme. This does not include subsequent conversations to measure outcomes against improvement activities.","Number of patient's interviewed per month. It is predicted that this number will increase once the volunteer has started interviewing as well as the Improvement Coordinator."]
["48-hour feedback to care team","TBC",null,null,"Provide immediate verbal feedback to the clinical care team on the day feedback has been gathered. Each team receives a written monthly report.","PCHC improvement staff are the \"patient voice\" at montly local care team meeting."]
["Improvement meeting","6. Number of improvement meetings held by care team per review period",null,null,"The number of face-to-face improvement meeting to discuss the feedback, plan improvment work or to provide coaching and mentoring support.","The number of local care team facilitated, reflective discussions to consider feedback; one per month/per team; this does not include subsequent supportive meetings and visits from the PCHC improvement team.","Number of 'care team reflection meetings on the wards per month'.  Increase in meetings in October as tried weekly but not enough data so now aiming for every 2 weeks."]
["Improvement opportunities","7. Number of improvement opportunities identified by care team per review period",null,null,"The number of potential improvements opportunities (negative feedback) identified from review and analysis of the feedback.","The number of issues identified as critical feedback, discussed and considered at the monthly local care team meeting.",null,"Consider opportunity versus capacity for testing/implementing/postponing etc, and PDSA verses 'just-do's'. If 0, confirm if didn't meet or no improvement opportunities identified."]
["Improvement ideas tested","8. Number of improvements identified at improvement meeting that are being tested per review period",null,null,"The number of improvements being tested using the model for improvement (PDSA).","Number of opportunities that are tested using the model for improvement (PDSA)."]
["Improvement ideas implemented","9. Number of improvements identified  at improvement meeting that are implemented  ",null,null,"Number of improvements which have gone straight to implementation and improvements which have completed a testing phase.","Number of opportunities that are acted on and become part of routine practice/process following testing",null,"need to agree a definition"]
["Improvement ideas NEED JUST DO IT DEFINITION ",null,null,"An improvement that a team or individual can take away implement straight away without any requirement to measure e.g. paying more attention to patients emotional needs when speaking tto them \\OR reinforcement of best practice that should be happening in department decides does not require a pdsa but instead requires a reinforcing by the SCN of what best practicethat ensures increased patient experience. "]
[]
["Right-time"]
["Telephone conversations","10. Number of people recruited who receive follow up call within 2-3 weeks",null,"do not collect routinely so based on number of conversations held",null,"Total number of people contacted in an attempt to solicit feedback. Only one call per person recorded even if multiple attempts are made."]
[null,"11. Number of right time care experience conversations completed",null,"Number of people we have conducted a phone survey with post discharge from hospital.",null,"Total number of people that participate in a brief themed conversation as part of the programme. Does not include subsequent conversations to measure outcomes of improvement activities."]
["Improvement meetings","12.Number of improvement meetings held by care team per review period",null,"Number of improvement meetings held by care team per review period",null,"As per real-time model."]
["Improvement opportunities","13. Number of improvement opportunities identified by care team per review period",null,"Potentially this number will be bigger than the number tested. Some improvements will not require testing before implementation. Wards will have a ceiling beyond which they cannot absorb any further improvement activity. ",null,"As per real-time model.",null,"Consider opportunity versus capacity for testing/implementing/postponing etc, and PDSA verses 'just-do's'. If 0, confirm if didn't meet or no improvement opportunities identified."]
["Improvement ideas tested","14. Number of improvements identified at improvement meeting that are tested",null,"Number of new tests per month",null,"As per real-time model."]
["Improvement ideas implemented","15. Number of improvements identified  at improvement meeting that are implemented ",null,"Number of improvements per month that are implemented. Includes both the number of improvements that have been made in the previous review period AND?",null,"As per real-time model."]

{"sheet":"Data for charts","index":1,"n_rows":73,"n_cols":21,"rows_kept":73,"cut":false,"hidden":true,"merged":[]}
[]
[]
[]
[]
[]
[]
[]
[]
[]
[null,"4)."]
[null,"2014-09-01","2014-10-01","2014-11-01","2014-12-01","2015-01-01","2015-02-01","2015-03-01","2015-04-01","2015-05-01","2015-06-01","2015-07-01","2015-08-01","2015-09-01","2015-10-01","2015-11-01","2015-12-01","2016-01-01","2016-02-01"]
[null,{"$f":"(B18/$T$32)*100000","v":{"$error":"#REF!"}},{"$f":"(C18/$T$32)*100000","v":{"$error":"#REF!"}},{"$error":"#REF!"},{"$error":"#REF!"},{"$error":"#REF!"},{"$error":"#REF!"},{"$error":"#REF!"},{"$f":"(I18/$U$32)*100000","v":{"$error":"#REF!"}},{"$f":"(J18/$U$32)*100000","v":{"$error":"#REF!"}},{"$error":"#REF!"},{"$error":"#REF!"},{"$error":"#REF!"},{"$error":"#REF!"},{"$error":"#REF!"},{"$error":"#REF!"},{"$error":"#REF!"},{"$error":"#REF!"},{"$error":"#REF!"}]
[null,{"$f":"MEDIAN($B$12:$M$12)","v":{"$error":"#REF!"}},{"$f":"MEDIAN($B$12:$M$12)","v":{"$error":"#REF!"}},{"$error":"#REF!"},{"$error":"#REF!"},{"$error":"#REF!"},{"$error":"#REF!"},{"$error":"#REF!"},{"$error":"#REF!"},{"$error":"#REF!"},{"$error":"#REF!"},{"$error":"#REF!"},{"$error":"#REF!"}]
[null,null,null,null,null,null,null,null,null,null,null,null,{"$f":"MEDIAN($B$12:$M$12)","v":{"$error":"#REF!"}},{"$f":"MEDIAN($B$12:$M$12)","v":{"$error":"#REF!"}},{"$error":"#REF!"},{"$error":"#REF!"},{"$error":"#REF!"},{"$error":"#REF!"},{"$error":"#REF!"}]
[]
[null,"5)."]
[null,"2014-09-01","2014-10-01","2014-11-01","2014-12-01","2015-01-01","2015-02-01","2015-03-01","2015-04-01","2015-05-01","2015-06-01","2015-07-01","2015-08-01","2015-09-01","2015-10-01","2015-11-01","2015-12-01","2016-01-01","2016-02-01"]
[null,{"$f":"VLOOKUP(#REF!,'A&E'!$A$2:$T$12,'A&E'!C1,FALSE)","v":{"$error":"#REF!"}},{"$f":"VLOOKUP(#REF!,'A&E'!$A$2:$T$12,'A&E'!D1,FALSE)","v":{"$error":"#REF!"}},{"$f":"VLOOKUP(#REF!,'A&E'!$A$2:$T$12,'A&E'!E1,FALSE)","v":{"$error":"#REF!"}},{"$f":"VLOOKUP(#REF!,'A&E'!$A$2:$T$12,'A&E'!F1,FALSE)","v":{"$error":"#REF!"}},{"$f":"VLOOKUP(#REF!,'A&E'!$A$2:$T$12,'A&E'!G1,FALSE)","v":{"$error":"#REF!"}},{"$f":"VLOOKUP(#REF!,'A&E'!$A$2:$T$12,'A&E'!H1,FALSE)","v":{"$error":"#REF!"}},{"$f":"VLOOKUP(#REF!,'A&E'!$A$2:$T$12,'A&E'!I1,FALSE)","v":{"$error":"#REF!"}},{"$f":"VLOOKUP(#REF!,'A&E'!$A$2:$T$12,'A&E'!J1,FALSE)","v":{"$error":"#REF!"}},{"$f":"VLOOKUP(#REF!,'A&E'!$A$2:$T$12,'A&E'!K1,FALSE)","v":{"$error":"#REF!"}},{"$f":"VLOOKUP(#REF!,'A&E'!$A$2:$T$12,'A&E'!L1,FALSE)","v":{"$error":"#REF!"}},{"$f":"VLOOKUP(#REF!,'A&E'!$A$2:$T$12,'A&E'!M1,FALSE)","v":{"$error":"#REF!"}},{"$f":"VLOOKUP(#REF!,'A&E'!$A$2:$T$12,'A&E'!N1,FALSE)","v":{"$error":"#REF!"}},{"$f":"VLOOKUP(#REF!,'A&E'!$A$2:$T$12,'A&E'!O1,FALSE)","v":{"$error":"#REF!"}},{"$f":"VLOOKUP(#REF!,'A&E'!$A$2:$T$12,'A&E'!P1,FALSE)","v":{"$error":"#REF!"}},{"$f":"VLOOKUP(#REF!,'A&E'!$A$2:$T$12,'A&E'!Q1,FALSE)","v":{"$error":"#REF!"}},{"$f":"VLOOKUP(#REF!,'A&E'!$A$2:$T$12,'A&E'!R1,FALSE)","v":{"$error":"#REF!"}},{"$f":"VLOOKUP(#REF!,'A&E'!$A$2:$T$12,'A&E'!S1,FALSE)","v":{"$error":"#REF!"}},{"$f":"VLOOKUP(#REF!,'A&E'!$A$2:$T$12,'A&E'!T1,FALSE)","v":{"$error":"#REF!"}}]
[null,{"$f":"MEDIAN($B$18:$M$18)","v":{"$error":"#REF!"}},{"$f":"MEDIAN($B$18:$M$18)","v":{"$error":"#REF!"}},{"$error":"#REF!"},{"$error":"#REF!"},{"$error":"#REF!"},{"$error":"#REF!"},{"$error":"#REF!"},{"$error":"#REF!"},{"$error":"#REF!"},{"$error":"#REF!"},{"$error":"#REF!"},{"$error":"#REF!"}]
[null,null,null,null,null,null,null,null,null,null,null,null,{"$f":"MEDIAN($B$18:$M$18)","v":{"$error":"#REF!"}},{"$f":"MEDIAN($B$18:$M$18)","v":{"$error":"#REF!"}},{"$error":"#REF!"},{"$error":"#REF!"},{"$f":"MEDIAN($B$18:$M$18)","v":{"$error":"#REF!"}},{"$error":"#REF!"},{"$error":"#REF!"}]
[]
[]
[null,"6)."]
[]
[null,"2014-09-01","2014-10-01","2014-11-01","2014-12-01","2015-01-01","2015-02-01","2015-03-01","2015-04-01","2015-05-01","2015-06-01","2015-07-01","2015-08-01","2015-09-01","2015-10-01","2015-11-01","2015-12-01","2016-01-01"]
[null,{"$f":"'Data for charts'!B32/'Data for charts'!$T$32*100000","v":{"$error":"#REF!"}},{"$f":"'Data for charts'!C32/'Data for charts'!$T$32*100000","v":{"$error":"#REF!"}},{"$f":"'Data for charts'!D32/'Data for charts'!$T$32*100000","v":{"$error":"#REF!"}},{"$f":"'Data for charts'!E32/'Data for charts'!$T$32*100000","v":{"$error":"#REF!"}},{"$f":"'Data for charts'!F32/'Data for charts'!$T$32*100000","v":{"$error":"#REF!"}},{"$f":"'Data for charts'!G32/'Data for charts'!$T$32*100000","v":{"$error":"#REF!"}},{"$f":"'Data for charts'!H32/'Data for charts'!$T$32*100000","v":{"$error":"#REF!"}},{"$f":"'Data for charts'!I32/'Data for charts'!$T$32*100000","v":{"$error":"#REF!"}},{"$f":"'Data for charts'!J32/'Data for charts'!$T$32*100000","v":{"$error":"#REF!"}},{"$f":"'Data for charts'!K32/'Data for charts'!$T$32*100000","v":{"$error":"#REF!"}},{"$f":"'Data for charts'!L32/'Data for charts'!$T$32*100000","v":{"$error":"#REF!"}},{"$f":"'Data for charts'!M32/'Data for charts'!$T$32*100000","v":{"$error":"#REF!"}},{"$f":"'Data for charts'!N32/'Data for charts'!$T$32*100000","v":{"$error":"#REF!"}},{"$f":"'Data for charts'!O32/'Data for charts'!$T$32*100000","v":{"$error":"#REF!"}},{"$f":"'Data for charts'!P32/'Data for charts'!$T$32*100000","v":{"$error":"#REF!"}},{"$f":"'Data for charts'!Q32/'Data for charts'!$T$32*100000","v":{"$error":"#REF!"}},{"$f":"'Data for charts'!R32/'Data for charts'!$T$32*100000","v":{"$error":"#REF!"}}]
[null,{"$f":"MEDIAN($B$26:$M$26)","v":{"$error":"#REF!"}},{"$f":"MEDIAN($B$26:$M$26)","v":{"$error":"#REF!"}},{"$error":"#REF!"},{"$error":"#REF!"},{"$error":"#REF!"},{"$error":"#REF!"},{"$error":"#REF!"},{"$error":"#REF!"},{"$error":"#REF!"},{"$error":"#REF!"},{"$error":"#REF!"},{"$error":"#REF!"}]
[null,null,null,null,null,null,null,null,null,null,null,null,{"$f":"MEDIAN($B$26:$M$26)","v":{"$error":"#REF!"}},{"$error":"#REF!"},{"$error":"#REF!"},{"$error":"#REF!"},{"$error":"#REF!"},{"$error":"#REF!"}]
[null,"7)."]
[]
[null,"2014-09-01","2014-10-01","2014-11-01","2014-12-01","2015-01-01","2015-02-01","2015-03-01","2015-04-01","2015-05-01","2015-06-01","2015-07-01","2015-08-01","2015-09-01","2015-10-01","2015-11-01","2015-12-01","2016-01-01"]
["OBD",{"$f":"VLOOKUP(#REF!&#REF!&#REF!,dd,DD!E1,FALSE)","v":{"$error":"#REF!"}},{"$f":"VLOOKUP(#REF!&#REF!&#REF!,dd,DD!F1,FALSE)","v":{"$error":"#REF!"}},{"$f":"VLOOKUP(#REF!&#REF!&#REF!,dd,DD!G1,FALSE)","v":{"$error":"#REF!"}},{"$f":"VLOOKUP(#REF!&#REF!&#REF!,dd,DD!H1,FALSE)","v":{"$error":"#REF!"}},{"$f":"VLOOKUP(#REF!&#REF!&#REF!,dd,DD!I1,FALSE)","v":{"$error":"#REF!"}},{"$f":"VLOOKUP(#REF!&#REF!&#REF!,dd,DD!J1,FALSE)","v":{"$error":"#REF!"}},{"$f":"VLOOKUP(#REF!&#REF!&#REF!,dd,DD!K1,FALSE)","v":{"$error":"#REF!"}},{"$f":"VLOOKUP(#REF!&#REF!&#REF!,dd,DD!L1,FALSE)","v":{"$error":"#REF!"}},{"$f":"VLOOKUP(#REF!&#REF!&#REF!,dd,DD!M1,FALSE)","v":{"$error":"#REF!"}},{"$f":"VLOOKUP(#REF!&#REF!&#REF!,dd,DD!N1,FALSE)","v":{"$error":"#REF!"}},{"$f":"VLOOKUP(#REF!&#REF!&#REF!,dd,DD!O1,FALSE)","v":{"$error":"#REF!"}},{"$f":"VLOOKUP(#REF!&#REF!&#REF!,dd,DD!P1,FALSE)","v":{"$error":"#REF!"}},{"$f":"VLOOKUP(#REF!&#REF!&#REF!,dd,DD!Q1,FALSE)","v":{"$error":"#REF!"}},{"$f":"VLOOKUP(#REF!&#REF!&#REF!,dd,DD!R1,FALSE)","v":{"$error":"#REF!"}},{"$f":"VLOOKUP(#REF!&#REF!&#REF!,dd,DD!S1,FALSE)","v":{"$error":"#REF!"}},{"$f":"VLOOKUP(#REF!&#REF!&#REF!,dd,DD!T1,FALSE)","v":{"$error":"#REF!"}},{"$f":"VLOOKUP(#REF!&#REF!&#REF!,dd,DD!U1,FALSE)","v":{"$error":"#REF!"}},null,{"$f":"VLOOKUP(#REF!&#REF!&#REF!,dd,DD!V1,FALSE)","v":{"$error":"#REF!"}},{"$f":"VLOOKUP(#REF!&#REF!&#REF!,dd,DD!W1,FALSE)","v":{"$error":"#REF!"}}]
[]
[]
[]
[]
[]
[]
[]
[]
[]
[null,"12)."]
[null,"2014/15","2015/16","2016/17","2017/18"]
[null,{"$f":"INDEX(Emergency!$B$25:$F$33,#REF!,Emergency!C24)","v":{"$error":"#REF!"}},{"$f":"INDEX(Emergency!$B$25:$F$33,#REF!,Emergency!D24)","v":{"$error":"#REF!"}},{"$f":"INDEX(Emergency!$B$25:$F$33,#REF!,Emergency!E24)","v":{"$error":"#REF!"}},{"$f":"INDEX(Emergency!$B$25:$F$33,#REF!,Emergency!F24)","v":{"$error":"#REF!"}}]
[]
[]
[]
[]
[]
[]
[]
[]
[]
[]
[]
[]
[]
[]
[]
[]
[]
[]
[]
[]
[]
[]
[]
["Balancing measures"]
[]
["2014-09-01","2014-10-01","2014-11-01","2014-12-01","2015-01-01","2015-02-01","2015-03-01","2015-04-01","2015-05-01","2015-06-01","2015-07-01","2015-08-01","2015-09-01","2015-10-01","2015-11-01","2015-12-01","2016-01-01","2016-02-01"]
[{"$f":"(INDEX(mortality,#REF!,Mortality!B12))/$T$32*100000","v":{"$error":"#REF!"}},{"$f":"(INDEX(mortality,#REF!,Mortality!C12))/$T$32*100000","v":{"$error":"#REF!"}},{"$f":"(INDEX(mortality,#REF!,Mortality!D12))/$T$32*100000","v":{"$error":"#REF!"}},{"$f":"(INDEX(mortality,#REF!,Mortality!E12))/$T$32*100000","v":{"$error":"#REF!"}},{"$f":"(INDEX(mortality,#REF!,Mortality!F12))/$T$32*100000","v":{"$error":"#REF!"}},{"$f":"(INDEX(mortality,#REF!,Mortality!G12))/$T$32*100000","v":{"$error":"#REF!"}},{"$f":"(INDEX(mortality,#REF!,Mortality!H12))/$T$32*100000","v":{"$error":"#REF!"}},{"$f":"(INDEX(mortality,#REF!,Mortality!I12))/$U$32*100000","v":{"$error":"#REF!"}},{"$f":"(INDEX(mortality,#REF!,Mortality!J12))/$U$32*100000","v":{"$error":"#REF!"}},{"$f":"(INDEX(mortality,#REF!,Mortality!K12))/$U$32*100000","v":{"$error":"#REF!"}},{"$f":"(INDEX(mortality,#REF!,Mortality!L12))/$U$32*100000","v":{"$error":"#REF!"}},{"$f":"(INDEX(mortality,#REF!,Mortality!M12))/$U$32*100000","v":{"$error":"#REF!"}},{"$f":"(INDEX(mortality,#REF!,Mortality!N12))/$U$32*100000","v":{"$error":"#REF!"}},{"$f":"(INDEX(mortality,#REF!,Mortality!O12))/$U$32*100000","v":{"$error":"#REF!"}},{"$f":"(INDEX(mortality,#REF!,Mortality!P12))/$U$32*100000","v":{"$error":"#REF!"}},{"$f":"(INDEX(mortality,#REF!,Mortality!Q12))/$U$32*100000","v":{"$error":"#REF!"}},{"$f":"(INDEX(mortality,#REF!,Mortality!R12))/$U$32*100000","v":{"$error":"#REF!"}},{"$f":"(INDEX(mortality,#REF!,Mortality!S12))/$U$32*100000","v":{"$error":"#REF!"}}]
[{"$f":"MEDIAN($A$71:$L$71)","v":{"$error":"#REF!"}},{"$f":"MEDIAN($A$71:$L$71)","v":{"$error":"#REF!"}},{"$error":"#REF!"},{"$error":"#REF!"},{"$error":"#REF!"},{"$error":"#REF!"},{"$error":"#REF!"},{"$error":"#REF!"},{"$error":"#REF!"},{"$error":"#REF!"},{"$error":"#REF!"},{"$error":"#REF!"}]
[null,null,null,null,null,null,null,null,null,null,null,{"$f":"MEDIAN($A$71:$L$71)","v":{"$error":"#REF!"}},{"$f":"MEDIAN($A$71:$L$71)","v":{"$error":"#REF!"}},{"$error":"#REF!"},{"$error":"#REF!"},{"$error":"#REF!"},{"$error":"#REF!"},{"$error":"#REF!"}]

{"sheet":"A&E","index":2,"n_rows":12,"n_cols":20,"rows_kept":12,"cut":false,"hidden":true,"merged":[]}
[1,2,3,4,5,6,7,8,9,10,11,12,13,14,15,16,17,18,19,20]
[null,"Partnership","2014-09-30","2014-10-31","2014-11-30","2014-12-31","2015-01-31","2015-02-28","2015-03-31","2015-04-30","2015-05-31","2015-06-30","2015-07-01","2015-08-01","2015-09-01","2015-10-01","2015-11-01","2015-12-01","2016-01-01","2016-02-01"]
[1,"Argyll & Bute",8812,7751,7413,7238,7335,6869,8011,8202,8871,8607,9311,9688,8690,8050,7436,7459,7629,7460]
[8,"Scottish Borders",2550,2266,2077,2378,2357,2190,2515,2444,2549,2449,2232,2479,2412,2494,2199,1980,2099,2071]
[2,"City of Edinburgh",22307,21550,21321,21210,20698,19432,22006,21165,21735,21548,20640,22706,22456,22054,21741,20858,21894,21501]
[5,"Midlothian",22307,21550,21321,21210,20698,19432,22006,21165,21735,21548,20640,22706,22456,22054,21741,20858,21894,21501]
[3,"Fife",7808,7149,6816,6861,6808,6698,7544,7540,7795,8012,7533,8093,7768,7482,7068,6761,7118,7234]
[4,"Glasgow City",39296,37530,37603,36118,36167,33945,38245,37064,36385,33655,32852,35943,34965,34700,33159,32434,33413,33339]
[6,"North Lanarkshire",16271,15454,15063,14674,15056,14319,15888,15434,16092,16037,15675,16987,16281,15865,15251,15048,16079,15419]
[9,"Scotland",142622,133528,131004,129316,129269,121281,137572,134713,138077,134757,131948,142082,137080,133028,127527,125203,129524,127713]
[7,"South Lanarkshire",16271,15454,15063,14674,15056,14319,15888,15434,16092,16037,15675,16987,16281,15865,15251,15048,16079,15419]
[10,"LWiC Partnerships",135622,128704,126677,124363,124175,117204,132103,128448,131254,127893,124558,135589,131309,128564,123846,120446,126205,123944]

{"sheet":"Mortality","index":3,"n_rows":12,"n_cols":19,"rows_kept":12,"cut":false,"hidden":true,"merged":[]}
["Partnership","2014-09-01","2014-10-01","2014-11-01","2014-12-01","2015-01-01","2015-02-01","2015-03-01","2015-04-01","2015-05-01","2015-06-01","2015-07-01","2015-08-01","2015-09-01","2015-10-01","2015-11-01","2015-12-01","2016-01-01","2016-02-01"]
["Argyll & Bute",99,92,85,90,125,106,114,98,92,102,89,91,91,92,89,84,116,90]
["Edinburgh City",348,360,338,435,432,412,385,356,322,336,334,303,366,349,336,395,375,399]
["Fife",286,344,276,326,440,364,363,351,346,303,295,283,307,317,301,357,362,359]
["Glasgow City",484,518,487,596,650,630,588,550,526,535,521,455,476,512,512,561,547,578]
["Midlothian",59,72,72,77,95,75,77,86,79,67,62,63,70,64,64,92,72,56]
["North Lanarkshire",269,311,272,354,371,316,338,310,255,306,299,300,287,266,298,278,320,359]
["Scottish Border",103,130,89,144,147,137,141,118,105,127,101,109,89,81,103,131,101,107]
["South Lanarkshire",261,309,244,361,357,336,318,277,300,272,285,259,275,255,264,298,349,300]
["Scotland",4347,4749,4257,5490,5919,5331,5272,4791,4408,4703,4506,4206,4371,4475,4570,5020,5104,5118]
["LWiC Partnerships",1909,2136,1863,2383,2617,2376,2324,2146,2025,2048,1986,1863,1961,1936,1967,2196,2242,2248]
[null,2,3,4,5,6,7,8,9,10,11,12,13,14,15,16,17,18,19]

{"sheet":"DD","index":4,"n_rows":84,"n_cols":39,"rows_kept":84,"cut":false,"hidden":true,"merged":[]}
[1,2,3,4,5,6,7,8,9,10,11,12,13,14,15,16,17,18,19,20,21,22,23,null,1,2,3,4,5,6,7,8,9,10,11,12,13,14,15]
["Lookup","LA","AgeGroup","ComplexNeedsFlag","2014-09-01","2014-10-01","2014-11-01","2014-12-01","2015-01-01","2015-02-01","2015-03-01","2015-04-01","2015-05-01","2015-06-01","2015-07-01","2015-08-01","2015-09-01","2015-10-01","2015-11-01","2015-12-01","2016-01-01","2014 population","2015 population",null,"code","Area","Reason","Apr 2015","May 2015","Jun 2015","Jul 2015","Aug 2015","Sep 2015","Oct 2015","Nov 2015","Dec 2015","Jan 2016","Feb 2016","Mar 2016"]
["111","Argyll & Bute","18-74","All",60,69,101,240,317,183,121,141,208,293,260,235,213,258,256,262,264,null,null,null,"11","Argyll&Bute","Community Care Assessment reasons",4,5,6,3,5,3,4,3,1,6,0,0]
["112","Argyll & Bute","18-74","Code 9",60,37,63,107,110,79,74,44,93,90,117,155,150,155,150,150,141,null,null,null,"12","Argyll&Bute","Patients waiting to go home",3,5,2,5,4,3,2,11,7,3,0,0]
["113","Argyll & Bute","18-74","Standard",0,32,38,133,207,104,47,97,115,203,143,80,63,103,106,112,123,null,null,null,"13","Argyll&Bute","Awaiting funding for a care home placement",0,0,0,0,0,0,0,0,0,0,0,0]
["121","Argyll & Bute","75+","All",566,638,588,596,470,605,771,635,601,461,339,446,469,441,569,597,529,null,null,null,"14","Argyll&Bute","Awaiting place availability in a care home",3,2,1,3,1,1,1,3,1,1,0,0]
["122","Argyll & Bute","75+","Code 9",159,132,64,127,93,129,232,167,111,107,94,170,181,233,141,106,116,null,null,null,"15","Argyll&Bute","Healthcare Arrangements",0,0,0,0,1,1,0,0,0,1,0,0]
["123","Argyll & Bute","75+","Standard",407,506,524,469,377,476,539,468,490,354,245,276,288,208,428,491,413,null,null,null,"16","Argyll&Bute","Other",3,2,5,1,0,0,0,0,1,0,0,0]
["131","Argyll & Bute","All","All",626,707,689,836,787,788,892,776,809,754,599,681,682,699,825,859,793,87660,85510,null,"21","City of Edinburgh","Community Care Assessment reasons",21,17,25,20,13,21,23,28,26,30,0,0]
["132","Argyll & Bute","All","Code 9",219,169,127,234,203,208,306,211,204,197,211,325,331,388,291,256,257,87660,85510,null,"22","City of Edinburgh","Patients waiting to go home",63,73,77,93,82,95,95,80,68,66,0,0]
["133","Argyll & Bute","All","Standard",407,538,562,602,584,580,586,565,605,557,388,356,351,311,534,603,536,87660,85510,null,"23","City of Edinburgh","Awaiting funding for a care home placement",0,0,0,0,0,0,0,1,0,0,0,0]
["211","City of Edinburgh","18-74","All",2395,2626,2642,2792,2338,1920,2125,2922,2961,2465,2653,2442,2316,2551,2163,1934,2082,null,null,null,"24","City of Edinburgh","Awaiting place availability in a care home",39,41,33,39,38,41,30,36,26,26,0,0]
["212","City of Edinburgh","18-74","Code 9",442,621,603,638,395,309,314,707,778,386,252,289,325,379,424,423,379,null,null,null,"25","City of Edinburgh","Healthcare Arrangements",0,0,0,0,0,0,1,0,0,0,0,0]
["213","City of Edinburgh","18-74","Standard",1953,2005,2039,2154,1943,1611,1811,2215,2183,2079,2401,2153,1991,2172,1739,1511,1703,null,null,null,"26","City of Edinburgh","Other",1,3,7,3,1,0,0,1,1,0,0,0]
["221","City of Edinburgh","75+","All",5415,5219,5457,5921,5543,4792,5753,5187,5562,5331,5801,5729,5555,5256,4702,4554,4680,null,null,null,"31","Fife","Community Care Assessment reasons",22,23,46,26,31,45,36,48,32,33,0,0]
["222","City of Edinburgh","75+","Code 9",387,520,516,522,377,289,298,414,488,491,472,376,335,459,397,486,484,null,null,null,"32","Fife","Patients waiting to go home",10,22,20,30,33,36,19,26,21,20,0,0]
["223","City of Edinburgh","75+","Standard",5028,4699,4941,5399,5166,4503,5455,4773,5074,4840,5329,5353,5220,4797,4305,4068,4196,null,null,null,"33","Fife","Awaiting funding for a care home placement",5,7,7,6,8,20,42,47,1,3,0,0]
["231","City of Edinburgh","All","All",7810,7845,8099,8713,7881,6712,7878,8109,8523,7796,8454,8171,7871,7807,6865,6488,6762,492680,497282,null,"34","Fife","Awaiting place availability in a care home",5,14,16,26,29,28,20,21,20,19,0,0]
["232","City of Edinburgh","All","Code 9",829,1141,1119,1160,772,598,612,1121,1266,877,724,665,660,838,821,909,863,492680,497282,null,"35","Fife","Healthcare Arrangements",2,1,1,1,0,0,1,1,1,0,0,0]
["233","City of Edinburgh","All","Standard",6981,6704,6980,7553,7109,6114,7266,6988,7257,6919,7730,7506,7211,6969,6044,5579,5899,492680,497282,null,"36","Fife","Other",1,1,1,0,1,2,1,2,3,2,0,0]
["311","Fife","18-74","All",1301,1431,1340,1445,1132,853,1022,885,1107,1455,1584,1652,1656,1669,1587,1493,1394,null,null,null,"41","Glasgow City","Community Care Assessment reasons",41,27,14,17,18,10,19,12,16,27,0,0]
["312","Fife","18-74","Code 9",279,266,253,317,262,207,207,199,247,242,260,272,249,216,246,182,115,null,null,null,"42","Glasgow City","Patients waiting to go home",2,7,5,4,7,2,2,3,0,0,0,0]
["313","Fife","18-74","Standard",1022,1165,1087,1128,870,646,815,686,860,1213,1324,1380,1407,1453,1341,1311,1279,null,null,null,"43","Glasgow City","Awaiting funding for a care home placement",8,14,2,0,0,0,0,5,3,2,0,0]
["321","Fife","75+","All",2662,3018,3360,3093,2372,2038,2438,1936,2081,2111,2790,2870,3091,3577,3584,2473,2677,null,null,null,"44","Glasgow City","Awaiting place availability in a care home",24,10,12,12,10,12,13,10,4,3,0,0]
["322","Fife","75+","Code 9",283,346,385,474,327,333,398,251,146,219,346,400,348,367,412,347,423,null,null,null,"45","Glasgow City","Healthcare Arrangements",0,0,0,0,0,0,0,0,0,1,0,0]
["323","Fife","75+","Standard",2379,2672,2975,2619,2045,1705,2040,1685,1935,1892,2444,2470,2743,3210,3172,2126,2254,null,null,null,"46","Glasgow City","Other",2,3,2,1,2,5,2,6,2,1,0,0]
["331","Fife","All","All",3963,4449,4700,4538,3504,2891,3460,2821,3188,3566,4374,4522,4747,5246,5171,3966,4071,367260,369879,null,"61","North Lanarkshire","Community Care Assessment reasons",22,11,23,31,33,33,25,21,28,38,0,0]
["332","Fife","All","Code 9",562,612,638,791,589,540,605,450,393,461,606,672,597,583,658,529,538,367260,369879,null,"62","North Lanarkshire","Patients waiting to go home",4,3,7,2,3,2,8,23,13,13,0,0]
["333","Fife","All","Standard",3401,3837,4062,3747,2915,2351,2855,2371,2795,3105,3768,3850,4150,4663,4513,3437,3533,367260,369879,null,"63","North Lanarkshire","Awaiting funding for a care home placement",0,0,0,1,1,0,0,0,0,0,0,0]
["411","Glasgow City","18-74","All",1563,1757,1727,1572,1624,1568,1961,1852,1380,992,1054,1276,1306,1402,1320,1287,1475,null,null,null,"64","North Lanarkshire","Awaiting place availability in a care home",3,5,4,3,5,6,9,15,8,3,0,0]
["412","Glasgow City","18-74","Code 9",586,469,439,498,520,593,808,535,464,405,514,690,674,717,731,796,757,null,null,null,"65","North Lanarkshire","Healthcare Arrangements",0,0,0,0,0,0,0,0,1,0,0,0]
["413","Glasgow City","18-74","Standard",977,1288,1288,1074,1104,975,1153,1317,916,587,540,586,632,685,589,491,718,null,null,null,"66","North Lanarkshire","Other",0,4,0,2,1,0,0,2,1,2,0,0]
["421","Glasgow City","75+","All",3594,3538,3962,3174,2863,2570,3096,2769,2639,1793,1804,1852,1839,2039,1830,1710,2030,null,null,null,"71","South Lanarkshire","Community Care Assessment reasons",27,21,19,44,25,33,35,35,32,25,0,0]
["422","Glasgow City","75+","Code 9",828,638,678,670,517,411,502,619,599,765,1025,1046,849,769,720,822,900,null,null,null,"72","South Lanarkshire","Patients waiting to go home",11,21,38,11,28,29,28,32,47,31,0,0]
["423","Glasgow City","75+","Standard",2766,2900,3284,2504,2346,2159,2594,2150,2040,1028,779,806,990,1270,1110,888,1130,null,null,null,"73","South Lanarkshire","Awaiting funding for a care home placement",0,1,0,0,0,11,12,8,0,2,0,0]
["431","Glasgow City","All","All",5157,5295,5689,4746,4487,4138,5057,4621,4019,2785,2858,3128,3145,3441,3150,2997,3505,599650,602873,null,"74","South Lanarkshire","Awaiting place availability in a care home",17,20,22,16,31,10,10,5,16,10,0,0]
["432","Glasgow City","All","Code 9",1414,1107,1117,1168,1037,1004,1310,1154,1063,1170,1539,1736,1523,1486,1451,1618,1657,599650,602873,null,"75","South Lanarkshire","Healthcare Arrangements",0,0,0,0,0,0,0,0,0,0,0,0]
["433","Glasgow City","All","Standard",3743,4188,4572,3578,3450,3134,3747,3467,2956,1615,1319,1392,1622,1955,1699,1379,1848,599650,602873,null,"76","South Lanarkshire","Other",1,5,2,3,1,1,1,0,0,3,0,0]
["511","Midlothian","18-74","All",293,279,217,238,248,313,364,230,272,212,200,226,165,150,201,307,203,null,null,null,"81","Borders","Community Care Assessment reasons",3,2,7,10,6,8,14,10,2,2,0,0]
["512","Midlothian","18-74","Code 9",95,62,76,93,86,112,127,93,100,0,8,31,4,26,44,93,83,null,null,null,"82","Borders","Patients waiting to go home",0,0,1,6,6,2,1,3,6,4,0,0]
["513","Midlothian","18-74","Standard",198,217,141,145,162,201,237,137,172,212,192,195,161,124,157,214,120,null,null,null,"83","Borders","Awaiting funding for a care home placement",0,1,0,0,0,0,0,0,0,0,0,0]
["521","Midlothian","75+","All",478,399,536,463,552,568,725,419,637,685,582,545,466,325,333,288,441,null,null,null,"84","Borders","Awaiting place availability in a care home",1,0,2,1,1,1,1,2,1,1,0,0]
["522","Midlothian","75+","Code 9",114,92,88,97,49,63,120,54,98,54,77,101,99,50,86,111,105,null,null,null,"85","Borders","Healthcare Arrangements",0,0,0,0,0,0,1,0,0,1,0,0]
["523","Midlothian","75+","Standard",364,307,448,366,503,505,605,365,539,631,505,444,367,275,247,177,336,null,null,null,"86","Borders","Other",0,0,0,0,0,1,1,0,0,0,0,0]
["531","Midlothian","All","All",771,678,753,701,800,881,1089,649,909,897,782,771,631,475,534,595,644,86210,86210,null,"91","Scotland","Community Care Assessment reasons",238,202,242,227,181,235,220,214,226,226,0,0]
["532","Midlothian","All","Code 9",209,154,164,190,135,175,247,147,198,54,85,132,103,76,130,204,188,86210,86210,null,"92","Scotland","Patients waiting to go home",202,254,245,265,317,309,329,340,305,265,0,0]
["533","Midlothian","All","Standard",562,524,589,511,665,706,842,502,711,843,697,639,528,399,404,391,456,86210,86210,null,"93","Scotland","Awaiting funding for a care home placement",18,33,19,17,15,41,64,79,14,20,0,0]
["611","North Lanarkshire","18-74","All",907,1330,864,1060,954,676,687,529,427,524,887,1146,1103,1126,1148,1191,1023,null,null,null,"94","Scotland","Awaiting place availability in a care home",238,250,261,260,310,296,294,278,245,226,0,0]
["612","North Lanarkshire","18-74","Code 9",298,396,340,277,245,183,181,226,264,109,257,309,353,303,300,292,285,null,null,null,"95","Scotland","Healthcare Arrangements",36,22,21,26,25,18,15,8,11,21,0,0]
["613","North Lanarkshire","18-74","Standard",609,934,524,783,709,493,506,303,163,415,630,837,750,823,848,899,738,null,null,null,"96","Scotland","Other",25,32,38,34,31,27,18,23,18,28,0,0]
["621","North Lanarkshire","75+","All",1574,1593,1568,2054,2076,1306,1271,1197,1246,1304,2062,2113,2102,2397,2199,2124,2393,null,null,null,"51","Midlothian","Community Care Assessment reasons",1,7,5,3,1,2,2,1,6,3,0,0]
["622","North Lanarkshire","75+","Code 9",140,145,156,173,111,125,159,262,243,144,270,322,293,76,109,154,183,null,null,null,"52","Midlothian","Patients waiting to go home",2,4,1,4,3,2,3,0,1,0,0,0]
["623","North Lanarkshire","75+","Standard",1434,1448,1412,1881,1965,1181,1112,935,1003,1160,1792,1791,1809,2321,2090,1970,2210,null,null,null,"53","Midlothian","Awaiting funding for a care home placement",0,0,0,0,0,0,0,0,0,0,0,0]
["631","North Lanarkshire","All","All",2481,2923,2432,3114,3030,1982,1958,1726,1673,1828,2949,3259,3205,3523,3347,3315,3416,337950,338617,null,"54","Midlothian","Awaiting place availability in a care home",2,2,2,0,1,5,2,3,4,0,0,0]
["632","North Lanarkshire","All","Code 9",438,541,496,450,356,308,340,488,507,253,527,631,646,379,409,446,468,337950,338617,null,"55","Midlothian","Healthcare Arrangements",0,0,0,0,0,0,0,0,0,0,0,0]
["633","North Lanarkshire","All","Standard",2043,2382,1936,2664,2674,1674,1618,1238,1166,1575,2422,2628,2559,3144,2938,2869,2948,337950,338617,null,"56","Midlothian","Other",0,0,1,0,0,1,0,2,0,0,0,0]
["911","Scotland","18-74","All",15032,16443,15258,16057,14850,12816,13323,13578,13680,13400,14081,14435,14130,15201,14118,14270,14056]
["912","Scotland","18-74","Code 9",4371,4583,4539,4784,4248,3857,4273,4216,4051,3096,3501,3967,3758,4529,4535,4794,4570]
["913","Scotland","18-74","Standard",10661,11860,10719,11273,10602,8959,9050,9362,9629,10304,10580,10468,10372,10672,9583,9476,9486]
["921","Scotland","75+","All",37487,39679,39959,41130,39357,34057,36695,33898,33210,31956,33716,34091,33961,35744,33744,32608,33771]
["922","Scotland","75+","Code 9",5997,6506,6437,6895,5853,5581,6606,6503,6461,6074,6452,6415,5886,6736,6924,7083,6933]
["923","Scotland","75+","Standard",31490,33173,33522,34235,33504,28476,30089,27395,26749,25882,27264,27676,28075,29008,26820,25525,26838]
["931","Scotland","All","All",52519,56122,55217,57187,54207,46873,50018,47476,46890,45356,47797,48526,48091,50945,47862,46878,47827,5347600,5365420]
["932","Scotland","All","Code 9",10368,11089,10976,11679,10101,9438,10879,10719,10512,9170,9953,10382,9644,11265,11459,11877,11503,5347600,5365420]
["933","Scotland","All","Standard",42151,45033,44241,45508,44106,37435,39139,36757,36378,36186,37844,38144,38447,39680,36403,35001,36324,5347600,5365420]
["811","Scottish Borders","18-74","All",197,121,105,214,203,117,90,104,92,128,216,103,58,153,251,363,272]
["812","Scottish Borders","18-74","Code 9",107,38,83,130,120,71,53,52,62,59,62,41,14,31,90,119,79]
["813","Scottish Borders","18-74","Standard",90,83,22,84,83,46,37,52,30,69,154,62,44,122,161,244,193]
["821","Scottish Borders","75+","All",465,695,504,569,576,525,410,429,396,457,551,476,531,586,592,623,576]
["822","Scottish Borders","75+","Code 9",194,177,103,88,153,83,83,188,134,158,188,207,152,141,271,313,250]
["823","Scottish Borders","75+","Standard",271,518,401,481,423,442,327,241,262,299,363,269,379,445,321,310,326]
["831","Scottish Borders","All","All",662,816,609,783,779,642,500,533,488,585,767,579,589,739,843,986,848,114030,113986]
["832","Scottish Borders","All","Code 9",301,215,186,218,273,154,136,240,196,217,250,248,166,172,361,432,329,114030,113986]
["833","Scottish Borders","All","Standard",361,601,423,565,506,488,364,293,292,368,517,331,423,567,482,554,519,114030,113986]
["711","South Lanarkshire","18-74","All",988,710,694,682,820,633,642,890,539,916,1054,969,987,885,967,1089,1047]
["712","South Lanarkshire","18-74","Code 9",439,392,321,286,198,83,68,204,112,117,219,193,96,62,79,131,243]
["713","South Lanarkshire","18-74","Standard",549,318,373,396,622,550,574,686,427,799,835,776,891,823,888,958,804]
["721","South Lanarkshire","75+","All",2585,2462,2863,3159,2875,2635,2570,2661,2038,2578,3140,3255,2995,3215,2919,3083,3317]
["722","South Lanarkshire","75+","Code 9",164,295,430,532,421,371,358,301,313,108,144,209,248,199,84,103,139]
["723","South Lanarkshire","75+","Standard",2421,2167,2433,2627,2454,2264,2212,2360,1725,2470,2996,3046,2747,3016,2835,2980,3178]
["731","South Lanarkshire","All","All",3573,3172,3557,3841,3695,3268,3212,3551,2577,3494,4194,4224,3982,4100,3886,4172,4364,315360,315830]
["732","South Lanarkshire","All","Code 9",603,687,751,818,619,454,426,505,425,225,363,402,344,261,163,234,382,315360,315830]
["733","South Lanarkshire","All","Standard",2970,2485,2806,3023,3076,2814,2786,3046,2152,3269,3831,3822,3638,3839,3723,3938,3982,315360,315830]
["1031","LWiC Partnerships","All","All",25043,25885,26528,27272,24963,21302,24046,22786,22186,21705,24977,25335,24852,26030,24621,23378,24403,2400800,2410187]

{"sheet":"Process Data","index":5,"n_rows":29,"n_cols":27,"rows_kept":29,"cut":false,"hidden":true,"merged":[]}
[null,"Percentage of HSCPs identified for HRI support that undertake a 'deep dive' diagnostic",null,null,null,"Percentage of HSCPs engaged through LWiC that produce an action plan following a deep dive that has potential to change the delivery of local services",null,null,"Number of external programmes/organisations engaged in LWiC",null,null,"Percentage of HSCPs represented at LWiC events (%)",null,null,"Number of 'followers' for the LWiC twitter account",null,null,"Reach of LWiC twitter account",null,null,"Number of unique visitors to LWiC webpage",null,null,"Number of page views to LWiC webpage",null,null,"Percentage of HSCPs engaged through HRI support for whom a case study is created"]
["2015-10-01",null,null,null,null,0,null,null,93,{"$f":"MEDIAN($I$2:$I$7)","v":93},null,87,{"$f":"MEDIAN($L$2:$L$7)","v":88.5},null,65,null,null,19400,{"$f":"MEDIAN($R$2:$R$7)","v":13000}]
["2015-11-01",null,null,null,null,0,null,null,93,93,null,90,88.5,null,79,null,null,13000,13000,null,76,{"$f":"MEDIAN($U$3:$U$8)","v":107.5},null,95,{"$f":"MEDIAN($X$3:$X$8)","v":131}]
["2015-12-01",null,null,null,null,3,null,null,93,93,null,80,88.5,null,108,null,null,13000,13000,null,126,107.5,null,141,131]
["2016-01-01",null,null,null,null,3,null,null,97,93,null,86,88.5,null,122,null,null,7651,13000,null,116,107.5,null,140,131]
["2016-02-01",null,null,null,null,3,null,null,96,93,null,97,88.5,null,142,null,null,12691,13000,null,126,107.5,null,122,131]
["2016-03-01",null,null,null,null,3,null,null,90,93,{"$f":"MEDIAN($I$2:$I$7)","v":93},90,88.5,{"$f":"MEDIAN($L$2:$L$7)","v":88.5},162,null,null,14731,13000,{"$f":"MEDIAN($R$2:$R$7)","v":13000},82,107.5,null,145,131]
["2016-04-01",null,null,null,null,6,null,null,96,null,{"$f":"MEDIAN($I$2:$I$7)","v":93},95,null,88.5,182,null,null,18833,null,{"$f":"MEDIAN($R$2:$R$7)","v":13000},99,107.5,{"$f":"MEDIAN($U$3:$U$8)","v":107.5},98,131,{"$f":"MEDIAN($X$3:$X$8)","v":131}]
["2016-05-01",null,null,null,null,6,null,null,94,null,93,90,null,88.5,202,null,null,19333,null,13000,91,null,{"$f":"MEDIAN($U$3:$U$8)","v":107.5},117,null,{"$f":"MEDIAN($X$3:$X$8)","v":131}]
["2016-06-01",null,null,null,null,6,null,null,91,null,93,95,null,88.5,222,null,null,15545,null,13000,92,null,107.5,150,null,131]
["2016-07-01",null,null,null,null,6,null,null,97,null,93,93,null,88.5,242,null,null,9245,null,13000,106,null,107.5,131,null,131]
["2016-08-01",null,null,null,null,9,null,null,97,null,93,91,null,88.5,262,null,null,10944,null,13000,83,null,107.5,122,null,131]
["2016-09-01",null,null,null,null,9,null,null,91,null,93,85,null,88.5,282,null,null,16619,null,13000,82,null,107.5,134,null,131]
["2016-10-01",null,null,null,null,12,null,null,92,null,93,99,null,88.5,302,null,null,15418,null,13000,109,null,107.5,116,null,131]
["2016-11-01",null,null,null,null,12,null,null,96,null,93,97,null,88.5,322,null,null,14033,null,13000,88,null,107.5,105,null,131]
["2016-12-01",null,null,null,null,{"$f":"F15+6","v":18},null,null,93,null,93,85,null,88.5,342,null,null,12000,null,13000,118,null,107.5,139,null,131]
["2017-01-01",null,null,null,null,{"$f":"F16+RANDBETWEEN($F$2,$F$6)","v":21},null,null,95,null,93,94,null,88.5,362,null,null,16411,null,13000,79,null,107.5,148,null,131]
["2017-02-01",null,null,null,null,{"$f":"F17+RANDBETWEEN($F$2,$F$6)","v":22},null,null,98,null,93,89,null,88.5,382,null,null,12929,null,13000,89,null,107.5,115,null,131]
["2017-03-01",null,null,null,null,24,null,null,96,null,93,86,null,88.5,402,null,null,13560,null,13000,119,null,107.5,134,null,131]
["2017-04-01",null,null,null,null,27,null,null,89,null,93,95,null,88.5,422,null,null,14557,null,13000,113,null,107.5,119,null,131]
["2017-05-01",null,null,null,null,28,null,null,90,null,93,83,null,88.5,442,null,null,12328,null,13000,126,null,107.5,148,null,131]
["2017-06-01",null,null,null,null,28,null,null,88,null,93,88,null,88.5,462,null,null,16980,null,13000,115,null,107.5,145,null,131]
["2017-07-01",null,null,null,null,28,null,null,86,null,93,90,null,88.5,482,null,null,7862,null,13000,120,null,107.5,112,null,131]
["2017-08-01",null,null,null,null,29,null,null,90,null,93,92,null,88.5,502,null,null,15281,null,13000,124,null,107.5,99,null,131]
["2017-09-01",null,null,null,null,31,null,null,84,null,93,88,null,88.5,522,null,null,19358,null,13000,118,null,107.5,98,null,131]
["2017-10-01",null,null,null,null,32,null,null,89,null,93,84,null,88.5,542,null,null,16519,null,13000,91,null,107.5,123,null,131]
["2017-11-01",null,null,null,null,33,null,null,97,null,93,98,null,88.5,562,null,null,14161,null,13000,103,null,107.5,121,null,131]
["2017-12-01",null,null,null,null,35,null,null,90,null,93,93,null,88.5,582,null,null,10069,null,13000,99,null,107.5,116,null,131]
["Total"]

{"sheet":"Emergency","index":6,"n_rows":33,"n_cols":6,"rows_kept":33,"cut":false,"hidden":true,"merged":[]}
[null,"Emergency Admissions"]
[]
[]
[]
[]
[]
[]
[]
[]
[]
[null,"Emergency Bed Days"]
[]
[]
[]
[]
[]
[]
[]
[]
[]
[]
[null,"Projections"]
[]
[null,1,2,3,4,5]
[null,"Argyll & Bute",68308,69332.00795309899,70468.475287465262,71931.417483301513]
[null,"Edinburgh City",321959,326696.21579292801,332015.62425008207,337947.8948972614]
[null,"Fife",266456,271177.37895805627,276134.46654289274,282176.90760114446]
[null,"Glasgow City",518190,522184.94356011029,526344.684944571,532124.84089689865]
[null,"Midlothian",65890,67884.874529430643,69656.731986481536,71470.296742237872]
[null,"North Lanarkshire",243967,248587.00131478309,252989.81094803763,257956.81957600385]
[null,"South Lanarkshire",239042,244688.76823342082,249760.91668408894,255563.60549912893]
[null,"Borders",77244,78802.504186828228,80230.387127902039,81934.893672323306]
[null,"Scotland",3935689,4011371.9006994818,4083258.4547160836,4169438.523294575]

{"sheet":"Data for chart 2","index":7,"n_rows":15,"n_cols":12,"rows_kept":15,"cut":false,"hidden":true,"merged":[]}
[null,null,"2015-04-01","2015-05-01","2015-06-01","2015-07-01","2015-08-01","2015-09-01","2015-10-01","2015-11-01","2015-12-01"]
[null,"OBD",{"$f":"VLOOKUP(#REF!&#REF!&#REF!,dd,DD!L1,FALSE)","v":{"$error":"#REF!"}},{"$f":"VLOOKUP(#REF!&#REF!&#REF!,dd,DD!M1,FALSE)","v":{"$error":"#REF!"}},{"$f":"VLOOKUP(#REF!&#REF!&#REF!,dd,DD!N1,FALSE)","v":{"$error":"#REF!"}},{"$f":"VLOOKUP(#REF!&#REF!&#REF!,dd,DD!O1,FALSE)","v":{"$error":"#REF!"}},{"$f":"VLOOKUP(#REF!&#REF!&#REF!,dd,DD!P1,FALSE)","v":{"$error":"#REF!"}},{"$f":"VLOOKUP(#REF!&#REF!&#REF!,dd,DD!Q1,FALSE)","v":{"$error":"#REF!"}},{"$f":"VLOOKUP(#REF!&#REF!&#REF!,dd,DD!R1,FALSE)","v":{"$error":"#REF!"}},{"$f":"VLOOKUP(#REF!&#REF!&#REF!,dd,DD!S1,FALSE)","v":{"$error":"#REF!"}},{"$f":"VLOOKUP(#REF!&#REF!&#REF!,dd,DD!T1,FALSE)","v":{"$error":"#REF!"}}]
[]
[]
[]
[null,"Code 9",{"$f":"VLOOKUP(#REF!&#REF!&2,dd,DD!L1,FALSE)","v":{"$error":"#REF!"}},{"$f":"VLOOKUP(#REF!&#REF!&2,dd,DD!M1,FALSE)","v":{"$error":"#REF!"}},{"$f":"VLOOKUP(#REF!&#REF!&2,dd,DD!N1,FALSE)","v":{"$error":"#REF!"}},{"$f":"VLOOKUP(#REF!&#REF!&2,dd,DD!O1,FALSE)","v":{"$error":"#REF!"}},{"$f":"VLOOKUP(#REF!&#REF!&2,dd,DD!P1,FALSE)","v":{"$error":"#REF!"}},{"$f":"VLOOKUP(#REF!&#REF!&2,dd,DD!Q1,FALSE)","v":{"$error":"#REF!"}},{"$f":"VLOOKUP(#REF!&#REF!&2,dd,DD!R1,FALSE)","v":{"$error":"#REF!"}},{"$f":"VLOOKUP(#REF!&#REF!&2,dd,DD!S1,FALSE)","v":{"$error":"#REF!"}},{"$f":"VLOOKUP(#REF!&#REF!&2,dd,DD!T1,FALSE)","v":{"$error":"#REF!"}}]
[null,"Standard",{"$f":"VLOOKUP(#REF!&#REF!&3,dd,DD!L1,FALSE)","v":{"$error":"#REF!"}},{"$f":"VLOOKUP(#REF!&#REF!&3,dd,DD!M1,FALSE)","v":{"$error":"#REF!"}},{"$f":"VLOOKUP(#REF!&#REF!&3,dd,DD!N1,FALSE)","v":{"$error":"#REF!"}},{"$f":"VLOOKUP(#REF!&#REF!&3,dd,DD!O1,FALSE)","v":{"$error":"#REF!"}},{"$f":"VLOOKUP(#REF!&#REF!&3,dd,DD!P1,FALSE)","v":{"$error":"#REF!"}},{"$f":"VLOOKUP(#REF!&#REF!&3,dd,DD!Q1,FALSE)","v":{"$error":"#REF!"}},{"$f":"VLOOKUP(#REF!&#REF!&3,dd,DD!R1,FALSE)","v":{"$error":"#REF!"}},{"$f":"VLOOKUP(#REF!&#REF!&3,dd,DD!S1,FALSE)","v":{"$error":"#REF!"}},{"$f":"VLOOKUP(#REF!&#REF!&3,dd,DD!T1,FALSE)","v":{"$error":"#REF!"}}]
[]
[null,null,"Apr 2015","May 2015","Jun 2015","Jul 2015","Aug 2015","Sep 2015","Oct 2015","Nov 2015","Dec 2015","Jan 2016"]
[1,"Community Care Assessment reasons",{"$f":"IFERROR(VLOOKUP(#REF!&$A10,reason,DD!AB$1,FALSE),\"-\")","v":"-"},{"$f":"IFERROR(VLOOKUP(#REF!&$A10,reason,DD!AC$1,FALSE),\"-\")","v":"-"},{"$f":"IFERROR(VLOOKUP(#REF!&$A10,reason,DD!AD$1,FALSE),\"-\")","v":"-"},{"$f":"IFERROR(VLOOKUP(#REF!&$A10,reason,DD!AE$1,FALSE),\"-\")","v":"-"},{"$f":"IFERROR(VLOOKUP(#REF!&$A10,reason,DD!AF$1,FALSE),\"-\")","v":"-"},{"$f":"IFERROR(VLOOKUP(#REF!&$A10,reason,DD!AG$1,FALSE),\"-\")","v":"-"},{"$f":"IFERROR(VLOOKUP(#REF!&$A10,reason,DD!AH$1,FALSE),\"-\")","v":"-"},{"$f":"IFERROR(VLOOKUP(#REF!&$A10,reason,DD!AI$1,FALSE),\"-\")","v":"-"},{"$f":"IFERROR(VLOOKUP(#REF!&$A10,reason,DD!AJ$1,FALSE),\"-\")","v":"-"},{"$f":"IFERROR(VLOOKUP(#REF!&$A10,reason,DD!AK$1,FALSE),\"-\")","v":"-"}]
[2,"Patients waiting to go home",{"$f":"IFERROR(VLOOKUP(#REF!&$A11,reason,DD!AB$1,FALSE),\"-\")","v":"-"},{"$f":"IFERROR(VLOOKUP(#REF!&$A11,reason,DD!AC$1,FALSE),\"-\")","v":"-"},{"$f":"IFERROR(VLOOKUP(#REF!&$A11,reason,DD!AD$1,FALSE),\"-\")","v":"-"},{"$f":"IFERROR(VLOOKUP(#REF!&$A11,reason,DD!AE$1,FALSE),\"-\")","v":"-"},{"$f":"IFERROR(VLOOKUP(#REF!&$A11,reason,DD!AF$1,FALSE),\"-\")","v":"-"},{"$f":"IFERROR(VLOOKUP(#REF!&$A11,reason,DD!AG$1,FALSE),\"-\")","v":"-"},{"$f":"IFERROR(VLOOKUP(#REF!&$A11,reason,DD!AH$1,FALSE),\"-\")","v":"-"},{"$f":"IFERROR(VLOOKUP(#REF!&$A11,reason,DD!AI$1,FALSE),\"-\")","v":"-"},{"$f":"IFERROR(VLOOKUP(#REF!&$A11,reason,DD!AJ$1,FALSE),\"-\")","v":"-"},{"$f":"IFERROR(VLOOKUP(#REF!&$A11,reason,DD!AK$1,FALSE),\"-\")","v":"-"}]
[3,"Awaiting funding for a care home placement",{"$f":"IFERROR(VLOOKUP(#REF!&$A12,reason,DD!AB$1,FALSE),\"-\")","v":"-"},{"$f":"IFERROR(VLOOKUP(#REF!&$A12,reason,DD!AC$1,FALSE),\"-\")","v":"-"},{"$f":"IFERROR(VLOOKUP(#REF!&$A12,reason,DD!AD$1,FALSE),\"-\")","v":"-"},{"$f":"IFERROR(VLOOKUP(#REF!&$A12,reason,DD!AE$1,FALSE),\"-\")","v":"-"},{"$f":"IFERROR(VLOOKUP(#REF!&$A12,reason,DD!AF$1,FALSE),\"-\")","v":"-"},{"$f":"IFERROR(VLOOKUP(#REF!&$A12,reason,DD!AG$1,FALSE),\"-\")","v":"-"},{"$f":"IFERROR(VLOOKUP(#REF!&$A12,reason,DD!AH$1,FALSE),\"-\")","v":"-"},{"$f":"IFERROR(VLOOKUP(#REF!&$A12,reason,DD!AI$1,FALSE),\"-\")","v":"-"},{"$f":"IFERROR(VLOOKUP(#REF!&$A12,reason,DD!AJ$1,FALSE),\"-\")","v":"-"},{"$f":"IFERROR(VLOOKUP(#REF!&$A12,reason,DD!AK$1,FALSE),\"-\")","v":"-"}]
[4,"Awaiting place availability in a care home",{"$f":"IFERROR(VLOOKUP(#REF!&$A13,reason,DD!AB$1,FALSE),\"-\")","v":"-"},{"$f":"IFERROR(VLOOKUP(#REF!&$A13,reason,DD!AC$1,FALSE),\"-\")","v":"-"},{"$f":"IFERROR(VLOOKUP(#REF!&$A13,reason,DD!AD$1,FALSE),\"-\")","v":"-"},{"$f":"IFERROR(VLOOKUP(#REF!&$A13,reason,DD!AE$1,FALSE),\"-\")","v":"-"},{"$f":"IFERROR(VLOOKUP(#REF!&$A13,reason,DD!AF$1,FALSE),\"-\")","v":"-"},{"$f":"IFERROR(VLOOKUP(#REF!&$A13,reason,DD!AG$1,FALSE),\"-\")","v":"-"},{"$f":"IFERROR(VLOOKUP(#REF!&$A13,reason,DD!AH$1,FALSE),\"-\")","v":"-"},{"$f":"IFERROR(VLOOKUP(#REF!&$A13,reason,DD!AI$1,FALSE),\"-\")","v":"-"},{"$f":"IFERROR(VLOOKUP(#REF!&$A13,reason,DD!AJ$1,FALSE),\"-\")","v":"-"},{"$f":"IFERROR(VLOOKUP(#REF!&$A13,reason,DD!AK$1,FALSE),\"-\")","v":"-"}]
[5,"Healthcare Arrangements",{"$f":"IFERROR(VLOOKUP(#REF!&$A14,reason,DD!AB$1,FALSE),\"-\")","v":"-"},{"$f":"IFERROR(VLOOKUP(#REF!&$A14,reason,DD!AC$1,FALSE),\"-\")","v":"-"},{"$f":"IFERROR(VLOOKUP(#REF!&$A14,reason,DD!AD$1,FALSE),\"-\")","v":"-"},{"$f":"IFERROR(VLOOKUP(#REF!&$A14,reason,DD!AE$1,FALSE),\"-\")","v":"-"},{"$f":"IFERROR(VLOOKUP(#REF!&$A14,reason,DD!AF$1,FALSE),\"-\")","v":"-"},{"$f":"IFERROR(VLOOKUP(#REF!&$A14,reason,DD!AG$1,FALSE),\"-\")","v":"-"},{"$f":"IFERROR(VLOOKUP(#REF!&$A14,reason,DD!AH$1,FALSE),\"-\")","v":"-"},{"$f":"IFERROR(VLOOKUP(#REF!&$A14,reason,DD!AI$1,FALSE),\"-\")","v":"-"},{"$f":"IFERROR(VLOOKUP(#REF!&$A14,reason,DD!AJ$1,FALSE),\"-\")","v":"-"},{"$f":"IFERROR(VLOOKUP(#REF!&$A14,reason,DD!AK$1,FALSE),\"-\")","v":"-"}]
[6,"Other",{"$f":"IFERROR(VLOOKUP(#REF!&$A15,reason,DD!AB$1,FALSE),\"-\")","v":"-"},{"$f":"IFERROR(VLOOKUP(#REF!&$A15,reason,DD!AC$1,FALSE),\"-\")","v":"-"},{"$f":"IFERROR(VLOOKUP(#REF!&$A15,reason,DD!AD$1,FALSE),\"-\")","v":"-"},{"$f":"IFERROR(VLOOKUP(#REF!&$A15,reason,DD!AE$1,FALSE),\"-\")","v":"-"},{"$f":"IFERROR(VLOOKUP(#REF!&$A15,reason,DD!AF$1,FALSE),\"-\")","v":"-"},{"$f":"IFERROR(VLOOKUP(#REF!&$A15,reason,DD!AG$1,FALSE),\"-\")","v":"-"},{"$f":"IFERROR(VLOOKUP(#REF!&$A15,reason,DD!AH$1,FALSE),\"-\")","v":"-"},{"$f":"IFERROR(VLOOKUP(#REF!&$A15,reason,DD!AI$1,FALSE),\"-\")","v":"-"},{"$f":"IFERROR(VLOOKUP(#REF!&$A15,reason,DD!AJ$1,FALSE),\"-\")","v":"-"},{"$f":"IFERROR(VLOOKUP(#REF!&$A15,reason,DD!AK$1,FALSE),\"-\")","v":"-"}]

{"sheet":"Combo","index":8,"n_rows":21,"n_cols":15,"rows_kept":21,"cut":false,"hidden":true,"merged":[]}
["18-74",1]
["75+",2]
["All",3]
[]
["All",1]
["Code 9",2]
["Standard",3]
[]
[]
[]
["Partnership","List","ACP1","ACP2","Comm","A&E1","DD OBD1","EM Ad1","Em Ad2","Em OBD1","Em OBD2","Eol OBD","EoL %","Mortality","Readmission"]
["Argyll & Bute",1,null,null,"Not enough data to make an assesment","Not enough data to make an assesment","Not enough data to make an assesment","Not enough data to make an assesment",null,null,null,null,null,"Not enough data to make an assesment"]
["City of Edinburgh",2,null,null,"Not enough data to make an assesment","Not enough data to make an assesment","Not enough data to make an assesment","Not enough data to make an assesment",null,null,null,null,null,"Not enough data to make an assesment"]
["Fife",3,null,null,"Not enough data to make an assesment","Not enough data to make an assesment","Not enough data to make an assesment","Not enough data to make an assesment",null,null,null,null,null,"Not enough data to make an assesment"]
["Glasgow City",4,null,null,"Not enough data to make an assesment","Not enough data to make an assesment","Not enough data to make an assesment","Not enough data to make an assesment",null,null,null,null,null,"Not enough data to make an assesment"]
["Midlothian",5,null,null,"Not enough data to make an assesment","Not enough data to make an assesment","Not enough data to make an assesment","Not enough data to make an assesment",null,null,null,null,null,"Not enough data to make an assesment"]
["North Lanarkshire",6,null,null,"Not enough data to make an assesment","Not enough data to make an assesment","Not enough data to make an assesment","Not enough data to make an assesment",null,null,null,null,null,"Not enough data to make an assesment"]
["South Lanarkshire",7,null,null,"Not enough data to make an assesment","Not enough data to make an assesment","Not enough data to make an assesment","Not enough data to make an assesment",null,null,null,null,null,"Not enough data to make an assesment"]
["Scottish Borders",8,null,null,"Not enough data to make an assesment","Not enough data to make an assesment","Not enough data to make an assesment","Not enough data to make an assesment",null,null,null,null,null,"Not enough data to make an assesment"]
["Scotland",9,null,null,"Not enough data to make an assesment","Not enough data to make an assesment","Not enough data to make an assesment","Not enough data to make an assesment",null,null,null,null,null,"Not enough data to make an assesment"]
["LWiC Partnerships",10,null,null,"Not enough data to make an assesment","Not enough data to make an assesment","Not enough data to make an assesment","Not enough data to make an assesment",null,null,null,null,null,"Not enough data to make an assesment"]

{"sheet":"Intro","index":9,"n_rows":17,"n_cols":2,"rows_kept":17,"cut":false,"hidden":false,"merged":[]}
[]
[]
[null,"The Care Experience Improvement Model (CEIM) Process Implementation Dashboard "]
[]
[]
[null,"This is a tool that can be used to support measurment in process reliability when implementing"]
[null,"CEIM into team practice."]
[]
[null,"Instructions:"]
[">","Click on the 'Process Implementation' tab to start"]
[">","On first use, add the commencement date to each table (e.g. 01/01/2022), press 'return' then click back on the cell to highlight. Drag the toggle from the bottom right hand side of the cell down to the last cell in the table."]
[">","Record the date each time the dashboard is updated in the 'Last Updated' cell at the top of the excel workbook."]
[">","Record the results for each of the measures each month in the 'Total No.' column."]
[">","Record any notes you have about things that affect the process reliability in the 'Annotations' column."]
[]
[]
[null,"This tool  created by Healthcare Improvement Scotland is free to use or adapt."]

{"sheet":"Process Implementation","index":10,"n_rows":123,"n_cols":14,"rows_kept":123,"cut":false,"hidden":false,"merged":[]}
[null,"Care Experience Improvement Model (CEIM) ",null,null,null,null,null,"Last upated:"]
[null,"Process implementation measurement dashboard"]
[]
[null,"1. Total care experience CONVERSATIONS per month",null,null,null,"Click Here for Operational Definition - Measure 1"]
[null,"Month","Total no.","Mean (Avg)","Annotations (click for definition)"]
[null,null,null,{"$f":"IF(OR(ISBLANK(C6)), NA(), AVERAGE($C$6:$C$21))","v":{"$error":"#N/A"}},null,null,null,null,null,null,null,null,null," "]
[null,null,null,{"$f":"IF(OR(ISBLANK(C7)), NA(), AVERAGE($C$6:$C$21))","v":{"$error":"#N/A"}}]
[null,null,null,{"$error":"#N/A"}]
[null,null,null,{"$error":"#N/A"}]
[null,null,null,{"$error":"#N/A"}]
[null,null,null,{"$error":"#N/A"}]
[null,null,null,{"$error":"#N/A"}]
[null,null,null,{"$error":"#N/A"}]
[null,null,null,{"$error":"#N/A"}]
[null,null,null,{"$error":"#N/A"}]
[null,null,null,{"$error":"#N/A"}]
[null,null,null,{"$error":"#N/A"}]
[null,null,null,{"$error":"#N/A"}]
[null,null,null,{"$error":"#N/A"}]
[null,null,null,{"$error":"#N/A"}]
[null,null,null,{"$error":"#N/A"}]
[]
[null,"2. Total Reflective Improvement MEETINGS per month",null,null,null,"Click Here for Operational Definition - Measure 2"]
[null,"Month","Total no.","Mean (Avg)","Annotations"]
[null,null,null,{"$f":"IF(OR(ISBLANK(C25)), NA(), AVERAGE($C$25:$C$40))","v":{"$error":"#N/A"}}]
[null,null,null,{"$f":"IF(OR(ISBLANK(C26)), NA(), AVERAGE($C$25:$C$40))","v":{"$error":"#N/A"}}]
[null,null,null,{"$error":"#N/A"}]
[null,null,null,{"$error":"#N/A"}]
[null,null,null,{"$error":"#N/A"}]
[null,null,null,{"$error":"#N/A"}]
[null,null,null,{"$error":"#N/A"}]
[null,null,null,{"$error":"#N/A"}]
[null,null,null,{"$error":"#N/A"}]
[null,null,null,{"$error":"#N/A"}]
[null,null,null,{"$error":"#N/A"}]
[null,null,null,{"$error":"#N/A"}]
[null,null,null,{"$error":"#N/A"}]
[null,null,null,{"$error":"#N/A"}]
[null,null,null,{"$error":"#N/A"}]
[null,null,null,{"$error":"#N/A"}]
[]
[null,"3. New IMPROVEMENT IDEAS identified per month",null,null,null,"Click Here for Operational Definition - Measure 3"]
[null,"Month","Total no.","Mean (Avg)","Annotations"]
[null,null,null,{"$f":"IF(OR(ISBLANK(C44)), NA(), AVERAGE($C$44:$C$59))","v":{"$error":"#N/A"}}]
[null,null,null,{"$f":"IF(OR(ISBLANK(C45)), NA(), AVERAGE($C$44:$C$59))","v":{"$error":"#N/A"}}]
[null,null,null,{"$error":"#N/A"}]
[null,null,null,{"$error":"#N/A"}]
[null,null,null,{"$error":"#N/A"}]
[null,null,null,{"$error":"#N/A"}]
[null,null,null,{"$error":"#N/A"}]
[null,null,null,{"$error":"#N/A"}]
[null,null,null,{"$error":"#N/A"}]
[null,null,null,{"$error":"#N/A"}]
[null,null,null,{"$error":"#N/A"}]
[null,null,null,{"$error":"#N/A"}]
[null,null,null,{"$error":"#N/A"}]
[null,null,null,{"$error":"#N/A"}]
[null,null,null,{"$error":"#N/A"}]
[null,null,null,{"$error":"#N/A"}]
[]
[null,"4.   Total NEW improvement Ideas BEING TESTED per month",null,null,null,"Click Here for Operational Definition - Measure 4"]
[null,"Month","Total no.","Mean (Avg)","Annotations"]
[null,null,null,{"$f":"IF(OR(ISBLANK(C63)), NA(), AVERAGE($C$63:$C$78))","v":{"$error":"#N/A"}}]
[null,null,null,{"$f":"IF(OR(ISBLANK(C64)), NA(), AVERAGE($C$63:$C$78))","v":{"$error":"#N/A"}}]
[null,null,null,{"$error":"#N/A"}]
[null,null,null,{"$error":"#N/A"}]
[null,null,null,{"$error":"#N/A"}]
[null,null,null,{"$error":"#N/A"}]
[null,null,null,{"$error":"#N/A"}]
[null,null,null,{"$error":"#N/A"}]
[null,null,null,{"$error":"#N/A"}]
[null,null,null,{"$error":"#N/A"}]
[null,null,null,{"$error":"#N/A"}]
[null,null,null,{"$error":"#N/A"}]
[null,null,null,{"$error":"#N/A"}]
[null,null,null,{"$error":"#N/A"}]
[null,null,null,{"$error":"#N/A"}]
[null,null,null,{"$error":"#N/A"}]
[]
[]
[]
[]
[null,"5. Overall total Improvement ideas 'in testing' per month",null,null,null,"Click Here for Operational Definition - Measure 5"]
[null,"Month","Total no.","Mean (Avg)","Annotations"]
[null,null,null,{"$f":"IF(OR(ISBLANK(C85)), NA(), AVERAGE($C$85:$C$100))","v":{"$error":"#N/A"}}]
[null,null,null,{"$f":"IF(OR(ISBLANK(C86)), NA(), AVERAGE($C$85:$C$100))","v":{"$error":"#N/A"}}]
[null,null,null,{"$error":"#N/A"}]
[null,null,null,{"$error":"#N/A"}]
[null,null,null,{"$error":"#N/A"}]
[null,null,null,{"$error":"#N/A"}]
[null,null,null,{"$error":"#N/A"}]
[null,null,null,{"$error":"#N/A"}]
[null,null,null,{"$error":"#N/A"}]
[null,null,null,{"$error":"#N/A"}]
[null,null,null,{"$error":"#N/A"}]
[null,null,null,{"$error":"#N/A"}]
[null,null,null,{"$error":"#N/A"}]
[null,null,null,{"$error":"#N/A"}]
[null,null,null,{"$error":"#N/A"}]
[null,null,null,{"$error":"#N/A"}]
[]
[null,"6. Total Improvements implemented per month",null,null,null,"Click Here for Operational Definition - Measure 6"]
[null,"Month","Total no.","Mean (Avg)","Annotations"]
[null,null,null,{"$f":"IF(OR(ISBLANK(C104)), NA(), AVERAGE($C$85:$C$100))","v":{"$error":"#N/A"}}]
[null,null,null,{"$f":"IF(OR(ISBLANK(C105)), NA(), AVERAGE($C$85:$C$100))","v":{"$error":"#N/A"}}]
[null,null,null,{"$error":"#N/A"}]
[null,null,null,{"$error":"#N/A"}]
[null,null,null,{"$error":"#N/A"}]
[null,null,null,{"$error":"#N/A"}]
[null,null,null,{"$error":"#N/A"}]
[null,null,null,{"$error":"#N/A"}]
[null,null,null,{"$error":"#N/A"}]
[null,null,null,{"$error":"#N/A"}]
[null,null,null,{"$error":"#N/A"}]
[null,null,null,{"$error":"#N/A"}]
[null,null,null,{"$error":"#N/A"}]
[null,null,null,{"$error":"#N/A"}]
[null,null,null,{"$error":"#N/A"}]
[null,null,null,{"$error":"#N/A"}]
[]
[null," ",null,null,null,null,null,null,null,null,null,null,"     "]
[null,null,null,null,null,null,null,null,null,null,null,null,"        "]
[null,"      "]